BEGIN:VCALENDAR
VERSION:2.0
PRODID:icalendar-ruby
CALSCALE:GREGORIAN
METHOD:PUBLISH
BEGIN:VEVENT
DTSTAMP:20260421T163312Z
UID:5-400074@jesusyour.tithelysetup5.com
DTSTART:20261101T180000Z
DTEND:20261101T190000Z
CLASS:PUBLIC
CREATED:20260421T080140
DESCRIPTION:Sunday Worship
LAST-MODIFIED:20260421T080140
LOCATION:
SUMMARY:Sunday Worship
URL;VALUE=URI:https://www.jesusyourhealerga.org/events/sunday-worship/2026-
 11-01
END:VEVENT
END:VCALENDAR
